BEGIN:VCALENDAR
VERSION:2.0
PRODID:-//TV Utfort-Eick - ECPv6.15.20//NONSGML v1.0//EN
CALSCALE:GREGORIAN
METHOD:PUBLISH
X-ORIGINAL-URL:https://tv-utfort-eick.de
X-WR-CALDESC:Veranstaltungen für TV Utfort-Eick
REFRESH-INTERVAL;VALUE=DURATION:PT1H
X-Robots-Tag:noindex
X-PUBLISHED-TTL:PT1H
BEGIN:VTIMEZONE
TZID:Europe/Helsinki
BEGIN:DAYLIGHT
TZOFFSETFROM:+0200
TZOFFSETTO:+0300
TZNAME:EEST
DTSTART:20240331T010000
END:DAYLIGHT
BEGIN:STANDARD
TZOFFSETFROM:+0300
TZOFFSETTO:+0200
TZNAME:EET
DTSTART:20241027T010000
END:STANDARD
BEGIN:DAYLIGHT
TZOFFSETFROM:+0200
TZOFFSETTO:+0300
TZNAME:EEST
DTSTART:20250330T010000
END:DAYLIGHT
BEGIN:STANDARD
TZOFFSETFROM:+0300
TZOFFSETTO:+0200
TZNAME:EET
DTSTART:20251026T010000
END:STANDARD
BEGIN:DAYLIGHT
TZOFFSETFROM:+0200
TZOFFSETTO:+0300
TZNAME:EEST
DTSTART:20260329T010000
END:DAYLIGHT
BEGIN:STANDARD
TZOFFSETFROM:+0300
TZOFFSETTO:+0200
TZNAME:EET
DTSTART:20261025T010000
END:STANDARD
END:VTIMEZONE
BEGIN:VEVENT
DTSTART;TZID=Europe/Helsinki:20250708T180000
DTEND;TZID=Europe/Helsinki:20250708T193000
DTSTAMP:20260422T173420
CREATED:20250513T155542Z
LAST-MODIFIED:20250723T171543Z
UID:1292-1751997600-1752003000@tv-utfort-eick.de
SUMMARY:Sportabzeichen
DESCRIPTION:Einfach vorbeikommen – eine Anmeldung ist nicht erforderlich. Wir sind bei Wind und Wetter für euch da! Bei Bedarf bieten wir zusätzliche Termine an. Die Schwimmabnahme kann nach Absprache individuell erfolgen.
URL:https://tv-utfort-eick.de/veranstaltung/sportabzeichen-2025-07-08/
LOCATION:MTV/GSV Platzanlage am Solimare\, Filder Str. 148\, Moers\, 47447
ATTACH;FMTTYPE=image/jpeg:https://tv-utfort-eick.de/wp-content/uploads/2025/06/WhatsApp-Image-2025-06-03-at-21.12.47-2-scaled.jpeg
END:VEVENT
BEGIN:VEVENT
DTSTART;TZID=Europe/Helsinki:20250729T180000
DTEND;TZID=Europe/Helsinki:20250729T193000
DTSTAMP:20260422T173420
CREATED:20250513T155759Z
LAST-MODIFIED:20250727T191736Z
UID:1296-1753812000-1753817400@tv-utfort-eick.de
SUMMARY:Sportabzeichen
DESCRIPTION:Einfach vorbeikommen – eine Anmeldung ist nicht erforderlich. Wir sind bei Wind und Wetter für euch da! Bei Bedarf bieten wir zusätzliche Termine an. Die Schwimmabnahme kann nach Absprache individuell erfolgen. Weitere Infos findest Du auf der Abteilungsseite für das Sportabzeichen.
URL:https://tv-utfort-eick.de/veranstaltung/sportabzeichen-2025-07-29/
LOCATION:MTV/GSV Platzanlage am Solimare\, Filder Str. 148\, Moers\, 47447
ATTACH;FMTTYPE=image/jpeg:https://tv-utfort-eick.de/wp-content/uploads/2025/06/WhatsApp-Image-2025-06-03-at-21.12.48-scaled.jpeg
END:VEVENT
END:VCALENDAR