BEGIN:VCALENDAR
VERSION:2.0
PRODID:-//TV Utfort-Eick - ECPv6.15.20//NONSGML v1.0//EN
CALSCALE:GREGORIAN
METHOD:PUBLISH
X-WR-CALNAME:TV Utfort-Eick
X-ORIGINAL-URL:https://tv-utfort-eick.de
X-WR-CALDESC:Veranstaltungen für TV Utfort-Eick
REFRESH-INTERVAL;VALUE=DURATION:PT1H
X-Robots-Tag:noindex
X-PUBLISHED-TTL:PT1H
BEGIN:VTIMEZONE
TZID:Europe/Helsinki
BEGIN:DAYLIGHT
TZOFFSETFROM:+0200
TZOFFSETTO:+0300
TZNAME:EEST
DTSTART:20240331T010000
END:DAYLIGHT
BEGIN:STANDARD
TZOFFSETFROM:+0300
TZOFFSETTO:+0200
TZNAME:EET
DTSTART:20241027T010000
END:STANDARD
BEGIN:DAYLIGHT
TZOFFSETFROM:+0200
TZOFFSETTO:+0300
TZNAME:EEST
DTSTART:20250330T010000
END:DAYLIGHT
BEGIN:STANDARD
TZOFFSETFROM:+0300
TZOFFSETTO:+0200
TZNAME:EET
DTSTART:20251026T010000
END:STANDARD
BEGIN:DAYLIGHT
TZOFFSETFROM:+0200
TZOFFSETTO:+0300
TZNAME:EEST
DTSTART:20260329T010000
END:DAYLIGHT
BEGIN:STANDARD
TZOFFSETFROM:+0300
TZOFFSETTO:+0200
TZNAME:EET
DTSTART:20261025T010000
END:STANDARD
END:VTIMEZONE
BEGIN:VEVENT
DTSTART;TZID=Europe/Helsinki:20251108T150000
DTEND;TZID=Europe/Helsinki:20251108T180000
DTSTAMP:20260420T151820
CREATED:20250818T173242Z
LAST-MODIFIED:20251015T084434Z
UID:9464-1762614000-1762624800@tv-utfort-eick.de
SUMMARY:Spieleabend für Kinder
DESCRIPTION:Im Mehrzweckraum laden wir alle Kinder ab 7 Jahren zu einem bunten Spielenachmittag ein. Neben Klassikern wie Uno und Memory warten viele weitere spannende Spiele\, die wir gemeinsam anleiten. Für das leibliche Wohl gibt es Pizza\, Getränke und kleine Snacks.
URL:https://tv-utfort-eick.de/veranstaltung/spieleabend-fuer-kinder/
LOCATION:TV Utfort-Eick 1981 e.V.\, Roseggerstraße 23\, Moers\, 47445
ATTACH;FMTTYPE=image/jpeg:https://tv-utfort-eick.de/wp-content/uploads/2025/05/image-55-1.jpg
END:VEVENT
END:VCALENDAR