BEGIN:VCALENDAR
VERSION:2.0
PRODID:-//TV Utfort-Eick - ECPv6.15.20//NONSGML v1.0//EN
CALSCALE:GREGORIAN
METHOD:PUBLISH
X-ORIGINAL-URL:https://tv-utfort-eick.de
X-WR-CALDESC:Veranstaltungen für TV Utfort-Eick
REFRESH-INTERVAL;VALUE=DURATION:PT1H
X-Robots-Tag:noindex
X-PUBLISHED-TTL:PT1H
BEGIN:VTIMEZONE
TZID:Europe/Helsinki
BEGIN:DAYLIGHT
TZOFFSETFROM:+0200
TZOFFSETTO:+0300
TZNAME:EEST
DTSTART:20250330T010000
END:DAYLIGHT
BEGIN:STANDARD
TZOFFSETFROM:+0300
TZOFFSETTO:+0200
TZNAME:EET
DTSTART:20251026T010000
END:STANDARD
BEGIN:DAYLIGHT
TZOFFSETFROM:+0200
TZOFFSETTO:+0300
TZNAME:EEST
DTSTART:20260329T010000
END:DAYLIGHT
BEGIN:STANDARD
TZOFFSETFROM:+0300
TZOFFSETTO:+0200
TZNAME:EET
DTSTART:20261025T010000
END:STANDARD
BEGIN:DAYLIGHT
TZOFFSETFROM:+0200
TZOFFSETTO:+0300
TZNAME:EEST
DTSTART:20270328T010000
END:DAYLIGHT
BEGIN:STANDARD
TZOFFSETFROM:+0300
TZOFFSETTO:+0200
TZNAME:EET
DTSTART:20271031T010000
END:STANDARD
END:VTIMEZONE
BEGIN:VEVENT
DTSTART;TZID=Europe/Helsinki:20261205T163000
DTEND;TZID=Europe/Helsinki:20261205T180000
DTSTAMP:20260422T161341
CREATED:20260320T123902Z
LAST-MODIFIED:20260320T123903Z
UID:10283-1796488200-1796493600@tv-utfort-eick.de
SUMMARY:Nikolausveranstaltung
DESCRIPTION:Auch in diesem Jahr laden wir alle Kinder\, Eltern und Großeltern herzlich zur Nikolausveranstaltung ein!  \n\n\n\nDer Nikolaus freut sich schon darauf\, viele leuchtende Kinderaugen zu sehen und gemeinsam mit allen bekannte Nikolauslieder zu singen. Natürlich hat er auch wieder kleine Überraschungen im Gepäck: Jedes Kind erhält einen Weckmann\, eine Mandarine und etwas Süßes. 🍊🍫 \n\n\n\nWer möchte\, kann sich sogar mit dem Nikolaus fotografieren lassen – ein schöner Moment zur Erinnerung! 📸 \n\n\n\nFür das leibliche Wohl ist ebenfalls gesorgt: Es gibt frische Waffeln\, heißen Kakao und Glühwein\, sodass alle Gäste in gemütlicher Atmosphäre den Nachmittag genießen können. ☕🧇 \n\n\n\nWir freuen uns auf einen stimmungsvollen Abend mit vielen großen und kleinen Gästen!
URL:https://tv-utfort-eick.de/veranstaltung/nikolausveranstaltung-2026/
LOCATION:TV Utfort-Eick 1981 e.V.\, Roseggerstraße 23\, Moers\, 47445
ATTACH;FMTTYPE=image/jpeg:https://tv-utfort-eick.de/wp-content/uploads/2025/05/image-2025-05-29T205208.053.jpg
END:VEVENT
BEGIN:VEVENT
DTSTART;TZID=Europe/Helsinki:20261217T153000
DTEND;TZID=Europe/Helsinki:20261217T173000
DTSTAMP:20260422T161341
CREATED:20260207T151953Z
LAST-MODIFIED:20260207T151957Z
UID:10120-1797521400-1797528600@tv-utfort-eick.de
SUMMARY:Nikolausbasteln
DESCRIPTION:Alle kleinen und großen Bastelfans sind herzlich eingeladen zu einem gemütlichen Bastelnachmittag im Mehrzweckraum! Gemeinsam gestalten wir weihnachtliche Kunstwerke und lassen unserer Kreativität freien Lauf.  \n\n\n\n Mitzubringen: Schere\, Klebstoff und Stifte \n\n\n\nWir freuen uns auf euch und viele bunte Ideen!
URL:https://tv-utfort-eick.de/veranstaltung/nikolausbasteln-2026/
ATTACH;FMTTYPE=image/jpeg:https://tv-utfort-eick.de/wp-content/uploads/2025/12/20251211_164049-scaled.jpg
END:VEVENT
END:VCALENDAR